BEGIN:VCALENDAR
PRODID:-//eluceo/ical//2.0/EN
VERSION:2.0
CALSCALE:GREGORIAN
BEGIN:VEVENT
UID:bd08503a77a67e8d6faa31e13db1ad2e
DTSTAMP:20260425T121331Z
SUMMARY:Déjeuner d'amitié
DESCRIPTION:
URL:https://aigle.rotary1990.ch/es/agenda/show/13264
DTSTART;TZID=Europe/Zurich:20100226T121500
DTEND;TZID=Europe/Zurich:20100226T121500
LOCATION:Yvorne - Auberge de La Couronne
CATEGORIES:Rotary
END:VEVENT
BEGIN:VTIMEZONE
TZID:Europe/Zurich
BEGIN:STANDARD
DTSTART:20100226T121500
TZNAME:CET
TZOFFSETTO:+0100
TZOFFSETFROM:+0100
END:STANDARD
END:VTIMEZONE
END:VCALENDAR
