BEGIN:VCALENDAR
PRODID:-//eluceo/ical//2.0/EN
VERSION:2.0
CALSCALE:GREGORIAN
BEGIN:VEVENT
UID:6ddc93f22f5ef136ebfe6035aa7dd16c
DTSTAMP:20260422T094941Z
SUMMARY:Visite Febex (Bex)
DESCRIPTION:Rendez-vous sur place à 11h00 précises. La visite débute obl
 igatoirement à 11h15\, une fois les participants équipés. Veuillez vous
  inscrire svp.\nOrador(es): Thierry VASSALO
URL:https://aigle.rotary1990.ch/es/agenda/show/10432
DTSTART;TZID=Europe/Zurich:20081010T110000
DTEND;TZID=Europe/Zurich:20081010T110000
LOCATION:-
CATEGORIES:Rotary
END:VEVENT
BEGIN:VTIMEZONE
TZID:Europe/Zurich
BEGIN:DAYLIGHT
DTSTART:20081010T110000
TZNAME:CEST
TZOFFSETTO:+0200
TZOFFSETFROM:+0200
END:DAYLIGHT
END:VTIMEZONE
END:VCALENDAR
